BEGIN:VCALENDAR
VERSION:2.0
PRODID:-//Trinity Events - ECPv4.4.2//NONSGML v1.0//EN
CALSCALE:GREGORIAN
METHOD:PUBLISH
X-WR-CALNAME:Trinity Events
X-ORIGINAL-URL:http://trinityevents.ie
X-WR-CALDESC:Events for Trinity Events
BEGIN:VEVENT
DTSTART;TZID=UTC+0:20170218T120000
DTEND;TZID=UTC+0:20170218T150000
DTSTAMP:20171030T090000
CREATED:20170129T183848Z
LAST-MODIFIED:20170129T183848Z
UID:340-1487419200-1487430000@trinityevents.ie
SUMMARY:LitSoc Coffee Hours
DESCRIPTION:Every weekday\, 12-3\, The Attic! (top of House 6!)
URL:http://trinityevents.ie/event/litsoc-coffee-hours/2017-02-18/
LOCATION:Dublin\, Ireland
GEO:53.3498053;-6.2603097
END:VEVENT
END:VCALENDAR