BEGIN:VCALENDAR
VERSION:2.0
PRODID:-//Trinity Events - ECPv4.4.2//NONSGML v1.0//EN
CALSCALE:GREGORIAN
METHOD:PUBLISH
X-WR-CALNAME:Trinity Events
X-ORIGINAL-URL:http://trinityevents.ie
X-WR-CALDESC:Events for Trinity Events
BEGIN:VEVENT
DTSTART;TZID=UTC+0:20170130T190000
DTEND;TZID=UTC+0:20170130T210000
DTSTAMP:20171030T090413
CREATED:20170129T184154Z
LAST-MODIFIED:20170129T184154Z
UID:413-1485802800-1485810000@trinityevents.ie
SUMMARY:Mark Pollock speaks to BioSoc and DU Clinical Therapies
DESCRIPTION:We are delighted to announce that Mark Pollock will be coming to the Stanley Quek Theatre on January 30th to speak to Biosoc and DU Clinical Therapies.\n\nAthlete\, adventurer\, world renowned motivational speaker\, and Trinity alumnus\, Mark will be joining us to share his story of triumph\, tragedy\, and tenacity\, and to encourage and inspire our members to not be constrained by the current limits of the possible and to push the boundaries of medical science.\n\nMark lost the sight in his right eye at the age of 5\, and suffered a retinal detachment in his left eye at the age of 22 which rendered him completely blind. He has since run 6 marathons in one week across the Gobi Desert in China\, become the first blind man to complete the North Pole Marathon in the Arctic\, and become the first blind man to race to the South Pole.\n\nIn 2010 Mark was involved in an accident which rendered him paralysed. He has embraced this injury as a new challenge\, and thrown himself into exploring the frontiers of spinal cord injury recovery through aggressive physical therapy and robotic technology.\n\nClick attending to stay up to date with developments on this event.
URL:http://trinityevents.ie/event/mark-pollock-speaks-to-biosoc-and-du-clinical-therapies/
LOCATION:Dublin\, Ireland
GEO:53.3498053;-6.2603097
END:VEVENT
END:VCALENDAR