BEGIN:VCALENDAR
VERSION:2.0
PRODID:-//Trinity Events - ECPv4.4.2//NONSGML v1.0//EN
CALSCALE:GREGORIAN
METHOD:PUBLISH
X-WR-CALNAME:Trinity Events
X-ORIGINAL-URL:http://trinityevents.ie
X-WR-CALDESC:Events for Trinity Events
BEGIN:VEVENT
DTSTART;TZID=UTC+0:20170201T203000
DTEND;TZID=UTC+0:20170201T223000
DTSTAMP:20171030T091046
CREATED:20170129T143616Z
LAST-MODIFIED:20170129T143616Z
UID:120-1485981000-1485988200@trinityevents.ie
SUMMARY:Play Philthy: RAG WEEK EDITION!
DESCRIPTION:Join us this Wednesday at Players Theatre for the ultimate PLAY PHILTHY: PLAY PHILTHIEST RAG WEEK EDITION. The Phil and Players will go head to head in a combination of all your favorite shows: The Weakest Link\, All Star Mr & Mrs\, Family Fortunes and Pointless! Only one can win. Let the games begin.\n\n€2 Entry with all proceeds going towards RAG week charities.\n\nCOME AND PLAY PHILTHY!
URL:http://trinityevents.ie/event/play-philthy-rag-week-edition/
LOCATION:Follow the Arrow!\, Dublin\, Ireland
ORGANIZER;CN="DU%20Players":MAILTO:ents@duplayers.com
END:VEVENT
END:VCALENDAR