BEGIN:VCALENDAR
VERSION:2.0
PRODID:-//Trinity Events - ECPv4.4.2//NONSGML v1.0//EN
CALSCALE:GREGORIAN
METHOD:PUBLISH
X-WR-CALNAME:Trinity Events
X-ORIGINAL-URL:http://trinityevents.ie
X-WR-CALDESC:Events for Trinity Events
BEGIN:VEVENT
DTSTART;TZID=UTC+0:20170207T120000
DTEND;TZID=UTC+0:20170207T150000
DTSTAMP:20171030T091827
CREATED:20170129T200915Z
LAST-MODIFIED:20170206T143014Z
UID:546-1486468800-1486479600@trinityevents.ie
SUMMARY:QSoc Coffee Hours
DESCRIPTION:Everyone welcome!
URL:http://trinityevents.ie/event/qsoc-coffee-hours/2017-02-07/
LOCATION:Dublin\, Ireland
GEO:53.3498053;-6.2603097
CATEGORIES:CSC
END:VEVENT
END:VCALENDAR