BEGIN:VCALENDAR
VERSION:2.0
PRODID:-//Trinity Events - ECPv4.4.2//NONSGML v1.0//EN
CALSCALE:GREGORIAN
METHOD:PUBLISH
X-WR-CALNAME:Trinity Events
X-ORIGINAL-URL:http://trinityevents.ie
X-WR-CALDESC:Events for Trinity Events
BEGIN:VEVENT
DTSTART;TZID=UTC+0:20170221T193000
DTEND;TZID=UTC+0:20170221T210000
DTSTAMP:20171030T091313
CREATED:20170205T103144Z
LAST-MODIFIED:20170205T103144Z
UID:723-1487705400-1487710800@trinityevents.ie
SUMMARY:Raymond Geuss speaks to the Metafizz
DESCRIPTION:“Nietzsche's Philosophical Ethnography” - Burke Theatre\, Arts Block\, 19:30
URL:http://trinityevents.ie/event/raymond-geuss-speaks-to-the-metafizz/
LOCATION:Dublin\, Ireland
GEO:53.3498053;-6.2603097
CATEGORIES:CSC
ORGANIZER;CN="Metafizz":MAILTO:metafizz@csc.tcd.ie
END:VEVENT
END:VCALENDAR