BEGIN:VCALENDAR
VERSION:2.0
PRODID:-//Trinity Events - ECPv4.4.2//NONSGML v1.0//EN
CALSCALE:GREGORIAN
METHOD:PUBLISH
X-WR-CALNAME:Trinity Events
X-ORIGINAL-URL:http://trinityevents.ie
X-WR-CALDESC:Events for Trinity Events
BEGIN:VEVENT
DTSTART;TZID=UTC+0:20170210T140000
DTEND;TZID=UTC+0:20170210T150000
DTSTAMP:20171030T092450
CREATED:20170205T104332Z
LAST-MODIFIED:20170205T104332Z
UID:797-1486735200-1486738800@trinityevents.ie
SUMMARY:TAF: Balloon Art
DESCRIPTION:Sitting in your lectures with no idea what’s going on? Feeling like a bit of a clown? Pop on down to our balloon art workshop to work on these essential skills needed for running away with the circus.
URL:http://trinityevents.ie/event/taf-balloon-art/
LOCATION:Dublin\, Ireland
GEO:53.3498053;-6.2603097
CATEGORIES:CSC
ORGANIZER;CN="Trinity%20Arts%20Festival":MAILTO:artsfest@csc.tcd.ie
END:VEVENT
END:VCALENDAR