BEGIN:VCALENDAR
VERSION:2.0
PRODID:-//Trinity Events - ECPv4.4.2//NONSGML v1.0//EN
CALSCALE:GREGORIAN
METHOD:PUBLISH
X-WR-CALNAME:Trinity Events
X-ORIGINAL-URL:http://trinityevents.ie
X-WR-CALDESC:Events for Trinity Events
BEGIN:VEVENT
DTSTART;TZID=UTC+0:20170509T110000
DTEND;TZID=UTC+0:20170509T120000
DTSTAMP:20171103T121028
CREATED:20170213T101651Z
LAST-MODIFIED:20170213T101651Z
UID:1219-1494327600-1494331200@trinityevents.ie
SUMMARY:DUAMS Coffee Hour
DESCRIPTION:
URL:http://trinityevents.ie/event/duams-coffee-hour/2017-05-09/
LOCATION:Trinity College\, Dublin\, Ireland
GEO:53.3437935;-6.2545716
X-APPLE-STRUCTURED-LOCATION;VALUE=URI;X-ADDRESS=Trinity College Dublin Ireland;X-APPLE-RADIUS=500;X-TITLE=Trinity College:geo:-6.2545716,53.3437935
ORGANIZER;CN="DUAMS":MAILTO:duams@csc.tcd.ie
END:VEVENT
END:VCALENDAR